BEGIN:VCALENDAR
VERSION:2.0
PRODID:-//ZContent.net//ZapCalLib 1.0//EN
CALSCALE:GREGORIAN
METHOD:PUBLISH
BEGIN:VEVENT
SUMMARY:#1 - Wie wird Qualitätsjournalismus gesichert? | Reihe "Journalism
 us unter Druck"
DTSTART:20240319T180000
DTEND:20240319T193000
UID:2026-04-21-11-34-58-0-@calendar.boell.de
DTSTAMP:20260421T093458
DESCRIPTION:▶ Online-Veranstaltung – Heinrich-Böll-Stiftung im Stiftun
 gsverbund
END:VEVENT
END:VCALENDAR
