BEGIN:VCALENDAR
VERSION:2.0
PRODID:-//ZContent.net//ZapCalLib 1.0//EN
CALSCALE:GREGORIAN
METHOD:PUBLISH
BEGIN:VEVENT
SUMMARY:Europäische Sicherheitsordnung nach dem russischen Krieg in der Uk
 raine
DTSTART:20240320T183000
DTEND:20240320T183000
UID:2026-04-22-12-22-13-0-@calendar.boell.de
DTSTAMP:20260422T102213
DESCRIPTION:▶ Online-Veranstaltung – Petra-Kelly-Stiftung
END:VEVENT
END:VCALENDAR
