BEGIN:VCALENDAR
VERSION:2.0
PRODID:-//ZContent.net//ZapCalLib 1.0//EN
CALSCALE:GREGORIAN
METHOD:PUBLISH
BEGIN:VEVENT
SUMMARY:Mirjam Zadoff: Gewalt und Gedächtnis |  Erinnerungskultur im 21. J
 ahrhundert
DTSTART:20240410T193000
DTEND:20240410T210000
UID:2026-04-21-15-22-36-0-@calendar.boell.de
DTSTAMP:20260421T132236
DESCRIPTION:▶ Siehe Veranstaltungsbeschreibung – Mönchengladbach – L
 andesstiftung Nordrhein-Westfalen
END:VEVENT
END:VCALENDAR
