BEGIN:VCALENDAR
VERSION:2.0
PRODID:-//ZContent.net//ZapCalLib 1.0//EN
CALSCALE:GREGORIAN
METHOD:PUBLISH
BEGIN:VEVENT
SUMMARY:Digitale Weiterbildung: KI als Instrument für klimagerechte Kommun
 en?  | Eine Weiterbildung für kommunale Angestellte und Aktive
DTSTART:20240307T140000
DTEND:20240307T160000
UID:2026-04-21-13-57-13-0-@calendar.boell.de
DTSTAMP:20260421T115713
DESCRIPTION:▶ Siehe Veranstaltungsbeschreibung – Landesstiftung Rheinla
 nd-Pfalz
END:VEVENT
END:VCALENDAR
