BEGIN:VCALENDAR
VERSION:2.0
PRODID:-//ZContent.net//ZapCalLib 1.0//EN
CALSCALE:GREGORIAN
METHOD:PUBLISH
BEGIN:VEVENT
SUMMARY:TEARING WALLS DOWN (Yıkılacak Duvarlar) | Film und Gespräch mit 
 Sibel Yiğitalp
DTSTART:20240317T180000
DTEND:20240317T200000
UID:2026-04-21-19-13-57-0-@calendar.boell.de
DTSTAMP:20260421T171357
DESCRIPTION:▶ Siehe Veranstaltungsbeschreibung – Bremen – Landesstift
 ung Bremen
END:VEVENT
END:VCALENDAR
