BEGIN:VCALENDAR
VERSION:2.0
PRODID:-//ZContent.net//ZapCalLib 1.0//EN
CALSCALE:GREGORIAN
METHOD:PUBLISH
BEGIN:VEVENT
SUMMARY:Als ich mit Hitler Schnapskirschen aß | Lesung, Gespräch und Konz
 ert mit Manja Präkels | Buchvorstellung, Gespräch und Konzert im Rahmen 
 der Reihe "Im Osten nichts Neues"
DTSTART:20240412T180000
DTEND:20240412T220000
UID:2026-04-22-06-58-55-0-@calendar.boell.de
DTSTAMP:20260422T045855
DESCRIPTION:▶ Siehe Veranstaltungsbeschreibung – Halle (Saale) – Land
 esstiftung Sachsen-Anhalt
END:VEVENT
END:VCALENDAR
