BEGIN:VCALENDAR
VERSION:2.0
PRODID:-//ZContent.net//ZapCalLib 1.0//EN
CALSCALE:GREGORIAN
METHOD:PUBLISH
BEGIN:VEVENT
SUMMARY:OUTSIDE THE BOX: RIOT ZINES | Zweiteiliger Riso Club mit Ludmilla B
 artscht und Silke Jaspers
DTSTART:20240313T170000
DTEND:20240313T210000
UID:2026-04-23-17-02-43-0-@calendar.boell.de
DTSTAMP:20260423T150243
DESCRIPTION:▶ Siehe Veranstaltungsbeschreibung – Freiburg – Heinrich 
 Böll Stiftung Baden-Württemberg
END:VEVENT
END:VCALENDAR
