BEGIN:VCALENDAR
VERSION:2.0
PRODID:-//ZContent.net//ZapCalLib 1.0//EN
CALSCALE:GREGORIAN
METHOD:PUBLISH
BEGIN:VEVENT
SUMMARY:Rechte Ideologie und Ökologie –  Naturschutz als Instrument? | V
 ortrag & Gespräch mit Andreas Speit u. a.
DTSTART:20240406T090000
DTEND:20240406T150000
UID:2026-04-21-15-23-46-0-@calendar.boell.de
DTSTAMP:20260421T132346
DESCRIPTION:▶ Siehe Veranstaltungsbeschreibung – Bremen – Landesstift
 ung Bremen
END:VEVENT
END:VCALENDAR
