BEGIN:VCALENDAR
VERSION:2.0
PRODID:-//ZContent.net//ZapCalLib 1.0//EN
CALSCALE:GREGORIAN
METHOD:PUBLISH
BEGIN:VEVENT
SUMMARY:Kino Europa: Surf On, Europe! (OmdU)
DTSTART:20240422T190000
DTEND:20240422T213000
UID:2026-04-22-04-06-43-0-@calendar.boell.de
DTSTAMP:20260422T020643
DESCRIPTION:▶ Siehe Veranstaltungsbeschreibung – München – Petra-Kel
 ly-Stiftung
END:VEVENT
END:VCALENDAR
