BEGIN:VCALENDAR
VERSION:2.0
PRODID:-//ZContent.net//ZapCalLib 1.0//EN
CALSCALE:GREGORIAN
METHOD:PUBLISH
BEGIN:VEVENT
SUMMARY:Unterschätzte Potenziale heben |  Stereotype bei Lehrkräften abba
 uen
DTSTART:20240410T163000
DTEND:20240410T180000
UID:2026-04-23-00-23-33-0-@calendar.boell.de
DTSTAMP:20260422T222333
DESCRIPTION:▶ Online-Veranstaltung – Heinrich-Böll-Stiftung - Bundesst
 iftung Berlin
END:VEVENT
END:VCALENDAR
