BEGIN:VCALENDAR
VERSION:2.0
PRODID:-//ZContent.net//ZapCalLib 1.0//EN
CALSCALE:GREGORIAN
METHOD:PUBLISH
BEGIN:VEVENT
SUMMARY:Dino in the Room | Zivilgesellschaftlicher Dialog zur deutschen Kol
 onialgeschichte  in Tansania
DTSTART:20240515T093000
DTEND:20240515T180000
UID:2026-04-22-04-06-38-0-@calendar.boell.de
DTSTAMP:20260422T020638
DESCRIPTION:Heinrich-Böll-Stiftung - Bundesstiftung Berlin – Berlin – 
 Heinrich-Böll-Stiftung - Bundesstiftung Berlin
END:VEVENT
END:VCALENDAR
