BEGIN:VCALENDAR
VERSION:2.0
PRODID:-//ZContent.net//ZapCalLib 1.0//EN
CALSCALE:GREGORIAN
METHOD:PUBLISH
BEGIN:VEVENT
SUMMARY:Resilienz als Schlüsselkompetenz in der Kommunalpolitik
DTSTART:20240424T173000
DTEND:20240424T200000
UID:2026-04-21-15-22-36-0-@calendar.boell.de
DTSTAMP:20260421T132236
DESCRIPTION:▶ Online-Veranstaltung – Heinrich Böll Stiftung Baden-Wür
 ttemberg
END:VEVENT
END:VCALENDAR
