BEGIN:VCALENDAR
VERSION:2.0
PRODID:-//ZContent.net//ZapCalLib 1.0//EN
CALSCALE:GREGORIAN
METHOD:PUBLISH
BEGIN:VEVENT
SUMMARY:Der 8. Mai 1945 – was bedeutet er für mein persönliches Leben? 
 | mit einem ukrainisch-russisch-deutschen Ensemble
DTSTART:20240508T190000
DTEND:20240508T210000
UID:2026-04-21-23-53-50-0-@calendar.boell.de
DTSTAMP:20260421T215350
DESCRIPTION:▶ Siehe Veranstaltungsbeschreibung – Potsdam – Landesstif
 tung Brandenburg
END:VEVENT
END:VCALENDAR
