BEGIN:VCALENDAR
VERSION:2.0
PRODID:-//ZContent.net//ZapCalLib 1.0//EN
CALSCALE:GREGORIAN
METHOD:PUBLISH
BEGIN:VEVENT
SUMMARY:Reichsträume – Reichsbürger*innen in Baden-Württemberg zwische
 n „Tag X“ und „Corona-Protest“
DTSTART:20240515T193000
DTEND:20240515T210000
UID:2026-04-20-05-22-36-0-@calendar.boell.de
DTSTAMP:20260420T032236
DESCRIPTION:▶ Siehe Veranstaltungsbeschreibung – Freiburg – Heinrich 
 Böll Stiftung Baden-Württemberg
END:VEVENT
END:VCALENDAR
