BEGIN:VCALENDAR
VERSION:2.0
PRODID:-//ZContent.net//ZapCalLib 1.0//EN
CALSCALE:GREGORIAN
METHOD:PUBLISH
BEGIN:VEVENT
SUMMARY:Gut vorbereitet auf Hass und Gewalt | Training für eine starke Kom
 munalpolitik
DTSTART:20240416T173000
DTEND:20240416T200000
UID:2026-04-22-00-46-59-0-@calendar.boell.de
DTSTAMP:20260421T224659
DESCRIPTION:▶ Online-Veranstaltung – Heinrich Böll Stiftung Baden-Wür
 ttemberg
END:VEVENT
END:VCALENDAR
