BEGIN:VCALENDAR
VERSION:2.0
PRODID:-//ZContent.net//ZapCalLib 1.0//EN
CALSCALE:GREGORIAN
METHOD:PUBLISH
BEGIN:VEVENT
SUMMARY:Lagebild Antifeminismus – eine erste Bilanz | Vortrag und Gesprä
 ch mit Judith Rahner und Ans Hartmann
DTSTART:20240415T163000
DTEND:20240415T180000
UID:2026-04-21-10-25-42-0-@calendar.boell.de
DTSTAMP:20260421T082542
DESCRIPTION:▶ Online-Veranstaltung – Antifeminismus begegnen
END:VEVENT
END:VCALENDAR
