BEGIN:VCALENDAR
VERSION:2.0
PRODID:-//ZContent.net//ZapCalLib 1.0//EN
CALSCALE:GREGORIAN
METHOD:PUBLISH
BEGIN:VEVENT
SUMMARY:Shubhangi Swarup - Breiten des Verlangens
DTSTART:20240513T183000
DTEND:20240513T200000
UID:2026-04-21-12-46-00-0-@calendar.boell.de
DTSTAMP:20260421T104600
DESCRIPTION:Heinrich-Böll-Stiftung - Bundesstiftung Berlin – Berlin – 
 Heinrich-Böll-Stiftung - Bundesstiftung Berlin
END:VEVENT
END:VCALENDAR
