BEGIN:VCALENDAR
VERSION:2.0
PRODID:-//ZContent.net//ZapCalLib 1.0//EN
CALSCALE:GREGORIAN
METHOD:PUBLISH
BEGIN:VEVENT
SUMMARY:Was können wir wissen? Was dürfen wir hoffen? Was sollen wir tun?
  | Kant und die Frage nach der Aufklärung im Anthropozän
DTSTART:20240605T201500
DTEND:20240608T220000
UID:2026-04-19-15-48-08-0-@calendar.boell.de
DTSTAMP:20260419T134808
DESCRIPTION:▶ Siehe Veranstaltungsbeschreibung – Freiburg – Heinrich 
 Böll Stiftung Baden-Württemberg
END:VEVENT
END:VCALENDAR
