BEGIN:VCALENDAR
VERSION:2.0
PRODID:-//ZContent.net//ZapCalLib 1.0//EN
CALSCALE:GREGORIAN
METHOD:PUBLISH
BEGIN:VEVENT
SUMMARY:Engagiert und übersehen - junge Menschen über die Zukunft der Pol
 itik | PASSAUER POLITIKTAGE
DTSTART:20240620T183000
DTEND:20240620T203000
UID:2026-04-22-03-01-59-0-@calendar.boell.de
DTSTAMP:20260422T010159
DESCRIPTION:▶ Siehe Veranstaltungsbeschreibung – Passau – Petra-Kelly
 -Stiftung
END:VEVENT
END:VCALENDAR
