BEGIN:VCALENDAR
VERSION:2.0
PRODID:-//ZContent.net//ZapCalLib 1.0//EN
CALSCALE:GREGORIAN
METHOD:PUBLISH
BEGIN:VEVENT
SUMMARY:Kohle war gestern: Rheinisches Revier | Kultur und nachhaltige Entw
 icklung
DTSTART:20240913T160000
DTEND:20240913T190000
UID:2026-04-21-10-06-55-0-@calendar.boell.de
DTSTAMP:20260421T080655
DESCRIPTION:▶ Siehe Veranstaltungsbeschreibung – Mönchengladbach – L
 andesstiftung Nordrhein-Westfalen
END:VEVENT
END:VCALENDAR
