BEGIN:VCALENDAR
VERSION:2.0
PRODID:-//ZContent.net//ZapCalLib 1.0//EN
CALSCALE:GREGORIAN
METHOD:PUBLISH
BEGIN:VEVENT
SUMMARY:Future Warm-Up: Starkregen und Hochwasser | Fit werden für Zukünf
 te mit Klimafolgen
DTSTART:20240625T180000
DTEND:20240625T193000
UID:2026-04-24-06-59-40-0-@calendar.boell.de
DTSTAMP:20260424T045940
DESCRIPTION:▶ Siehe Veranstaltungsbeschreibung – Landesstiftung Bremen
END:VEVENT
END:VCALENDAR
