BEGIN:VCALENDAR
VERSION:2.0
PRODID:-//ZContent.net//ZapCalLib 1.0//EN
CALSCALE:GREGORIAN
METHOD:PUBLISH
BEGIN:VEVENT
SUMMARY:Rechtsruck in Europa | Frankreich, Deutschland und die Zukunft Euro
 pas
DTSTART:20240709T190000
DTEND:20240709T210000
UID:2026-04-21-10-08-10-0-@calendar.boell.de
DTSTAMP:20260421T080810
DESCRIPTION:▶ Online-Veranstaltung – Landesstiftung Hessen
END:VEVENT
END:VCALENDAR
