BEGIN:VCALENDAR
VERSION:2.0
PRODID:-//ZContent.net//ZapCalLib 1.0//EN
CALSCALE:GREGORIAN
METHOD:PUBLISH
BEGIN:VEVENT
SUMMARY:Grenzgänge West (3 Plätze frei) | Grenzen übertreten, Natur und 
 Geschichte erfahren, die europäische Idee erleben
DTSTART:20240923T101500
DTEND:20240927T174500
UID:2026-04-21-12-45-45-0-@calendar.boell.de
DTSTAMP:20260421T104545
DESCRIPTION:▶ Siehe Veranstaltungsbeschreibung – Aachen – Landesstift
 ung Nordrhein-Westfalen
END:VEVENT
END:VCALENDAR
