BEGIN:VCALENDAR
VERSION:2.0
PRODID:-//ZContent.net//ZapCalLib 1.0//EN
CALSCALE:GREGORIAN
METHOD:PUBLISH
BEGIN:VEVENT
SUMMARY:ABGESAGT - Demokratie verteidigen und weiterentwickeln | Workshop i
 m Rahmen der Zukunftsakademie Freiburg 2024
DTSTART:20240801T093000
DTEND:20240801T163000
UID:2026-04-23-22-10-48-0-@calendar.boell.de
DTSTAMP:20260423T201048
DESCRIPTION:▶ Siehe Veranstaltungsbeschreibung – Freiburg – Heinrich 
 Böll Stiftung Baden-Württemberg
END:VEVENT
END:VCALENDAR
