BEGIN:VCALENDAR
VERSION:2.0
PRODID:-//ZContent.net//ZapCalLib 1.0//EN
CALSCALE:GREGORIAN
METHOD:PUBLISH
BEGIN:VEVENT
SUMMARY:26. Böll-Forum NRW: "Wenn du durch die Hölle gehst, dann geh weit
 er" | Preisverleihung, Buchgespräch & Diskussion zu Belarus 
DTSTART:20241122T180000
DTEND:20241122T210000
UID:2026-04-20-05-22-40-0-@calendar.boell.de
DTSTAMP:20260420T032240
DESCRIPTION:▶ Siehe Veranstaltungsbeschreibung – Düsseldorf – Landes
 stiftung Nordrhein-Westfalen
END:VEVENT
END:VCALENDAR
