BEGIN:VCALENDAR
VERSION:2.0
PRODID:-//ZContent.net//ZapCalLib 1.0//EN
CALSCALE:GREGORIAN
METHOD:PUBLISH
BEGIN:VEVENT
SUMMARY:Alte Landschaften - Neues Wirtschaften | Nachhaltige Ideen für die
  Region, Exkursion Im Dreiländereck Rhön
DTSTART:20241017T090000
DTEND:20241018T160000
UID:2026-04-21-11-35-17-0-@calendar.boell.de
DTSTAMP:20260421T093517
DESCRIPTION:▶ Siehe Veranstaltungsbeschreibung – Landesstiftung Thürin
 gen
END:VEVENT
END:VCALENDAR
