BEGIN:VCALENDAR
VERSION:2.0
PRODID:-//ZContent.net//ZapCalLib 1.0//EN
CALSCALE:GREGORIAN
METHOD:PUBLISH
BEGIN:VEVENT
SUMMARY:Exkursion: Seefahrt heute - Arbeit auf den Meeren zwischen Containe
 rn und Hochsicherheitszonen | Aus der Reihe: Hafen(Stadt)-Zukunft
DTSTART:20240913T134000
DTEND:20240913T160000
UID:2026-04-21-22-27-10-0-@calendar.boell.de
DTSTAMP:20260421T202710
DESCRIPTION:▶ Siehe Veranstaltungsbeschreibung – Hamburg – Landesstif
 tung Hamburg
END:VEVENT
END:VCALENDAR
