BEGIN:VCALENDAR
VERSION:2.0
PRODID:-//ZContent.net//ZapCalLib 1.0//EN
CALSCALE:GREGORIAN
METHOD:PUBLISH
BEGIN:VEVENT
SUMMARY:Was hat Israel mit Antisemitismus zu tun? | EIN WORKSHOP ÜBER ISRA
 ELBEZOGENEN ANTISEMITISMUS
DTSTART:20240923T100000
DTEND:20240923T160000
UID:2026-04-22-00-06-47-0-@calendar.boell.de
DTSTAMP:20260421T220647
DESCRIPTION:▶ Siehe Veranstaltungsbeschreibung – Bautzen – Landesstif
 tung Sachsen (Weiterdenken)
END:VEVENT
END:VCALENDAR
