BEGIN:VCALENDAR
VERSION:2.0
PRODID:-//ZContent.net//ZapCalLib 1.0//EN
CALSCALE:GREGORIAN
METHOD:PUBLISH
BEGIN:VEVENT
SUMMARY:Klimaschule Erfurt
DTSTART:20240902T150000
DTEND:20240906T180000
UID:2026-04-21-13-57-20-0-@calendar.boell.de
DTSTAMP:20260421T115720
DESCRIPTION:▶ Siehe Veranstaltungsbeschreibung – Erfurt – 
END:VEVENT
END:VCALENDAR
