BEGIN:VCALENDAR
VERSION:2.0
PRODID:-//ZContent.net//ZapCalLib 1.0//EN
CALSCALE:GREGORIAN
METHOD:PUBLISH
BEGIN:VEVENT
SUMMARY:Unüberwindbare Herausforderungen für Somalier*innen bei der Ident
 itätsklärung | ab 19 Uhr Somalis only
DTSTART:20241016T180000
DTEND:20241016T200000
UID:2026-04-19-19-17-52-0-@calendar.boell.de
DTSTAMP:20260419T171752
DESCRIPTION:▶ Siehe Veranstaltungsbeschreibung – Kiel – Landesstiftun
 g Schleswig-Holstein
END:VEVENT
END:VCALENDAR
