BEGIN:VCALENDAR
VERSION:2.0
PRODID:-//ZContent.net//ZapCalLib 1.0//EN
CALSCALE:GREGORIAN
METHOD:PUBLISH
BEGIN:VEVENT
SUMMARY:Postkolonialismus und Kulturalismus | Eine Einführung
DTSTART:20241020T140000
DTEND:20241020T160000
UID:2026-04-21-10-08-28-0-@calendar.boell.de
DTSTAMP:20260421T080828
DESCRIPTION:▶ Siehe Veranstaltungsbeschreibung – Kiel – Landesstiftun
 g Schleswig-Holstein
END:VEVENT
END:VCALENDAR
