BEGIN:VCALENDAR
VERSION:2.0
PRODID:-//ZContent.net//ZapCalLib 1.0//EN
CALSCALE:GREGORIAN
METHOD:PUBLISH
BEGIN:VEVENT
SUMMARY:Noch einmal möchte morgens ich erwachsen... | Bildungsfahrt mit de
 m Fahrrad von Pirna nach Porschendorf
DTSTART:20241019T100000
DTEND:20241019T160000
UID:2026-04-22-03-01-46-0-@calendar.boell.de
DTSTAMP:20260422T010146
DESCRIPTION:▶ Siehe Veranstaltungsbeschreibung – Pirna – Landesstiftu
 ng Sachsen (Weiterdenken)
END:VEVENT
END:VCALENDAR
