BEGIN:VCALENDAR
VERSION:2.0
PRODID:-//ZContent.net//ZapCalLib 1.0//EN
CALSCALE:GREGORIAN
METHOD:PUBLISH
BEGIN:VEVENT
SUMMARY:Überwachung, Sanktionierung, Beseitigung. Geschichte der Prostitut
 ion im NS-Staat | Veranstaltungsreihe "Sex kaufen? Von der Kontroverse zur
  Diskussion"
DTSTART:20241210T190000
DTEND:20241210T210000
UID:2026-04-21-22-14-31-0-@calendar.boell.de
DTSTAMP:20260421T201431
DESCRIPTION:▶ Siehe Veranstaltungsbeschreibung – Leipzig – Landesstif
 tung Sachsen (Weiterdenken)
END:VEVENT
END:VCALENDAR
