BEGIN:VCALENDAR
VERSION:2.0
PRODID:-//ZContent.net//ZapCalLib 1.0//EN
CALSCALE:GREGORIAN
METHOD:PUBLISH
BEGIN:VEVENT
SUMMARY:PETRA KELLY – ACT NOW! | Film und Gespräch über die Mitbegründ
 erin der Grünen und politische Aktivistin
DTSTART:20240912T200000
DTEND:20240912T220000
UID:2026-04-22-22-55-21-0-@calendar.boell.de
DTSTAMP:20260422T205521
DESCRIPTION:Bremen – Landesstiftung Bremen
END:VEVENT
END:VCALENDAR
