BEGIN:VCALENDAR
VERSION:2.0
PRODID:-//ZContent.net//ZapCalLib 1.0//EN
CALSCALE:GREGORIAN
METHOD:PUBLISH
BEGIN:VEVENT
SUMMARY:Future Warm-Up: Starkregen und Hochwasser | Fit werden für Zukünf
 te mit Klimafolgen
DTSTART:20240917T180000
DTEND:20240917T200000
UID:2026-04-22-01-14-45-0-@calendar.boell.de
DTSTAMP:20260421T231445
DESCRIPTION:Bremen – Landesstiftung Bremen
END:VEVENT
END:VCALENDAR
