BEGIN:VCALENDAR
VERSION:2.0
PRODID:-//ZContent.net//ZapCalLib 1.0//EN
CALSCALE:GREGORIAN
METHOD:PUBLISH
BEGIN:VEVENT
SUMMARY:Wie weiter mit der EU? – Erweitern? Abschotten? Schützen? Reform
 ieren? | 45. Grüner Salon Bielefeld
DTSTART:20240929T113000
DTEND:20240929T133000
UID:2026-04-21-19-59-55-0-@calendar.boell.de
DTSTAMP:20260421T175955
DESCRIPTION:▶ Siehe Veranstaltungsbeschreibung – Bielefeld – Landesst
 iftung Nordrhein-Westfalen
END:VEVENT
END:VCALENDAR
