BEGIN:VCALENDAR
VERSION:2.0
PRODID:-//ZContent.net//ZapCalLib 1.0//EN
CALSCALE:GREGORIAN
METHOD:PUBLISH
BEGIN:VEVENT
SUMMARY:DIE WAND - Ein (Bewegungs-)Chorprojekt  | Nach dem Roman von Marlen
  Haushofer
DTSTART:20241003T200000
DTEND:20241003T220000
UID:2026-04-22-01-38-48-0-@calendar.boell.de
DTSTAMP:20260421T233848
DESCRIPTION:â–¶ Siehe Veranstaltungsbeschreibung â€“ Berlin â€“ Heinrich-BÃ
 ¶ll-Stiftung - Bundesstiftung Berlin
END:VEVENT
END:VCALENDAR
