BEGIN:VCALENDAR
VERSION:2.0
PRODID:-//ZContent.net//ZapCalLib 1.0//EN
CALSCALE:GREGORIAN
METHOD:PUBLISH
BEGIN:VEVENT
SUMMARY:Polen ein Jahr nach den Wahlen – politischer Neuanfang oder „bu
 siness as usual“?
DTSTART:20241126T190000
DTEND:20241126T213000
UID:2026-04-24-03-25-03-0-@calendar.boell.de
DTSTAMP:20260424T012503
DESCRIPTION:▶ Siehe Veranstaltungsbeschreibung – Landesstiftung Berlin 
 (Bildungswerk)
END:VEVENT
END:VCALENDAR
