BEGIN:VCALENDAR
VERSION:2.0
PRODID:-//ZContent.net//ZapCalLib 1.0//EN
CALSCALE:GREGORIAN
METHOD:PUBLISH
BEGIN:VEVENT
SUMMARY:Wir können auch anders | Die Feministische Presserunde #23
DTSTART:20241028T180000
DTEND:20241028T193000
UID:2026-04-21-23-40-41-0-@calendar.boell.de
DTSTAMP:20260421T214041
DESCRIPTION:▶ Online-Veranstaltung – Landesstiftung Hessen
END:VEVENT
END:VCALENDAR
