BEGIN:VCALENDAR
VERSION:2.0
PRODID:-//ZContent.net//ZapCalLib 1.0//EN
CALSCALE:GREGORIAN
METHOD:PUBLISH
BEGIN:VEVENT
SUMMARY: Wirtschaft trifft Zukunft – Nachhaltige Konzepte in der Energiew
 irtschaft | mit Michael Diestel Geschäftsführer Agrokraft GmbH Bad Neust
 adt 
DTSTART:20241114T180000
DTEND:20241114T203000
UID:2026-04-21-19-14-17-0-@calendar.boell.de
DTSTAMP:20260421T171417
DESCRIPTION:Saalfeld – Landesstiftung Thüringen
END:VEVENT
END:VCALENDAR
