BEGIN:VCALENDAR
VERSION:2.0
PRODID:-//ZContent.net//ZapCalLib 1.0//EN
CALSCALE:GREGORIAN
METHOD:PUBLISH
BEGIN:VEVENT
SUMMARY:zusammentun | solidarisch gegen rechts
DTSTART:20241109T190000
DTEND:20241210T210000
UID:2026-04-21-11-34-23-0-@calendar.boell.de
DTSTAMP:20260421T093423
DESCRIPTION:Rosenheim – Petra-Kelly-Stiftung
END:VEVENT
END:VCALENDAR
