BEGIN:VCALENDAR
VERSION:2.0
PRODID:-//ZContent.net//ZapCalLib 1.0//EN
CALSCALE:GREGORIAN
METHOD:PUBLISH
BEGIN:VEVENT
SUMMARY:NARRARE 2024: "Feuer – Wasser - Sturm" | Lange Nacht der Geschich
 ten 
DTSTART:20241120T090000
DTEND:20241123T200000
UID:2026-04-21-19-52-02-0-@calendar.boell.de
DTSTAMP:20260421T175202
DESCRIPTION:Landesstiftung Thüringen
END:VEVENT
END:VCALENDAR
