BEGIN:VCALENDAR
VERSION:2.0
PRODID:-//ZContent.net//ZapCalLib 1.0//EN
CALSCALE:GREGORIAN
METHOD:PUBLISH
BEGIN:VEVENT
SUMMARY:35x89 - Engagierte Frauen 1989/90. Eine HĂ¶rkunstperformance | GefĂ
 ¶rdert von den Freundinnen und Freunden der Heinrich-BĂ¶ll-Stiftung
DTSTART:20241130T140000
DTEND:20241130T160000
UID:2026-04-21-13-32-41-0-@calendar.boell.de
DTSTAMP:20260421T113241
DESCRIPTION:â–¶ Siehe Veranstaltungsbeschreibung â€“ Leipzig â€“ Externe Ve
 ranstaltung
END:VEVENT
END:VCALENDAR
