BEGIN:VCALENDAR
VERSION:2.0
PRODID:-//ZContent.net//ZapCalLib 1.0//EN
CALSCALE:GREGORIAN
METHOD:PUBLISH
BEGIN:VEVENT
SUMMARY:Desafíos de la política pública minera en Chile. Una mirada desd
 e la Sociedad Civil
DTSTART:20241126T170000
DTEND:20241126T190000
UID:2026-04-23-06-55-39-0-@calendar.boell.de
DTSTAMP:20260423T045539
DESCRIPTION:▶ Siehe Veranstaltungsbeschreibung – Heinrich-Böll-Stiftun
 g Santiago de Chile - Chile\, Peru\, Bolivien
END:VEVENT
END:VCALENDAR
