BEGIN:VCALENDAR
VERSION:2.0
PRODID:-//ZContent.net//ZapCalLib 1.0//EN
CALSCALE:GREGORIAN
METHOD:PUBLISH
BEGIN:VEVENT
SUMMARY:ABGESAGT: Lust auf einen kommunalen Spitzen-Job!? | Orientierung fĂ
 Ľr die Kandidatur als (Ober)BĂĽrgermeister*in / LandrĂ¤t*in 
DTSTART:20250315T100000
DTEND:20250315T170000
UID:2026-04-21-22-26-41-0-@calendar.boell.de
DTSTAMP:20260421T202641
DESCRIPTION:NĂĽrnberg â€“ Petra-Kelly-Stiftung
END:VEVENT
END:VCALENDAR
