BEGIN:VCALENDAR
VERSION:2.0
PRODID:-//ZContent.net//ZapCalLib 1.0//EN
CALSCALE:GREGORIAN
METHOD:PUBLISH
BEGIN:VEVENT
SUMMARY:„Heimlicher Souverän ist eine kleine Elite“ | Wie passen der G
 laube an Verschwörungstheorien, Populismus und  Antisemitismus zusammen?
DTSTART:20241126T190000
DTEND:20241126T203000
UID:2026-04-21-11-35-12-0-@calendar.boell.de
DTSTAMP:20260421T093512
DESCRIPTION:▶ Siehe Veranstaltungsbeschreibung – Göppingen – Heinric
 h Böll Stiftung Baden-Württemberg
END:VEVENT
END:VCALENDAR
