BEGIN:VCALENDAR
VERSION:2.0
PRODID:-//ZContent.net//ZapCalLib 1.0//EN
CALSCALE:GREGORIAN
METHOD:PUBLISH
BEGIN:VEVENT
SUMMARY:Auf den Spuren von Christa Wolf - Stadtspaziergang | In der Reihe: 
 „Lebenswege – Lebensorte. Auf den Spuren von Frauen, die Berlin bewegt
  haben.“
DTSTART:20250321T140000
DTEND:20250321T180000
UID:2026-04-23-17-55-03-0-@calendar.boell.de
DTSTAMP:20260423T155503
DESCRIPTION:▶ Siehe Veranstaltungsbeschreibung – Landesstiftung Berlin 
 (Bildungswerk)
END:VEVENT
END:VCALENDAR
