BEGIN:VCALENDAR
VERSION:2.0
PRODID:-//ZContent.net//ZapCalLib 1.0//EN
CALSCALE:GREGORIAN
METHOD:PUBLISH
BEGIN:VEVENT
SUMMARY:Alles im Fluss!? - Wasser in der Krise | Ausstellung in Köln
DTSTART:20250321T130000
DTEND:20250323T160000
UID:2026-04-22-03-01-52-0-@calendar.boell.de
DTSTAMP:20260422T010152
DESCRIPTION:▶ Siehe Veranstaltungsbeschreibung – Köln – Externe Vera
 nstaltung
END:VEVENT
END:VCALENDAR
