BEGIN:VCALENDAR
VERSION:2.0
PRODID:-//ZContent.net//ZapCalLib 1.0//EN
CALSCALE:GREGORIAN
METHOD:PUBLISH
BEGIN:VEVENT
SUMMARY:Muslimisch-jüdisches Abendbrot | Vom Miteinander in Zeiten der Pol
 arisierung
DTSTART:20250126T120000
DTEND:20250126T140000
UID:2026-04-22-04-06-35-0-@calendar.boell.de
DTSTAMP:20260422T020635
DESCRIPTION:▶ Siehe Veranstaltungsbeschreibung – Mönchengladbach – L
 andesstiftung Nordrhein-Westfalen
END:VEVENT
END:VCALENDAR
