BEGIN:VCALENDAR
VERSION:2.0
PRODID:-//ZContent.net//ZapCalLib 1.0//EN
CALSCALE:GREGORIAN
METHOD:PUBLISH
BEGIN:VEVENT
SUMMARY:Die Regierung des Kokains | Kriminelle Wirtschaftsbeziehungen zwisc
 hen dem globalen Norden und Süden
DTSTART:20250127T180000
DTEND:20250127T180000
UID:2026-04-21-11-33-06-0-@calendar.boell.de
DTSTAMP:20260421T093306
DESCRIPTION:Nürnberg – Petra-Kelly-Stiftung
END:VEVENT
END:VCALENDAR
